BEGIN:VCALENDAR
VERSION:2.0
PRODID:-//eventon.com NONSGML v1.0//EN
CALSCALE:GREGORIAN
METHOD:PUBLISH
BEGIN:VEVENT
UID:69e4cf13597d9
DTSTAMP:20260419T124819Z
DTSTART:20261015
DTEND:20261016
LOCATION:
SUMMARY:Monatswanderung - Wiggertal
DESCRIPTION:Wanderleiter: Ruedi Thali\nhttps://dev.tvebikon.ch/events/monat
 swanderung-wiggertal/
URL:https://dev.tvebikon.ch/events/monatswanderung-wiggertal/
END:VEVENT
END:VCALENDAR