BEGIN:VCALENDAR
VERSION:2.0
PRODID:-//eventon.com NONSGML v1.0//EN
CALSCALE:GREGORIAN
METHOD:PUBLISH
BEGIN:VEVENT
UID:69e9e58494ef2
DTSTAMP:20260423T092524Z
DTSTART:20260701
DTEND:20260801
LOCATION:
SUMMARY:Spezial Jubiläums Grillplausch in der Äbiker- Hütte mit Anhang
DESCRIPTION:Daten gemäss Einladung\nhttps://dev.tvebikon.ch/events/spezial
 -jubilaeums-grillplausch-in-der-aebiker-huette-mit-anhang/
URL:https://dev.tvebikon.ch/events/spezial-jubilaeums-grillplausch-in-der-aebiker-huette-mit-anhang/
END:VEVENT
END:VCALENDAR