BEGIN:VCALENDAR
VERSION:2.0
PRODID:-//eventon.com NONSGML v1.0//EN
CALSCALE:GREGORIAN
METHOD:PUBLISH
BEGIN:VEVENT
UID:69e9e57eacbf2
DTSTAMP:20260423T092518Z
DTSTART:20260702
DTEND:20260703
LOCATION:
SUMMARY:Ausklang vor Sommerferien
DESCRIPTION:Ausklang vor Sommerferien\nhttps://dev.tvebikon.ch/events/auskl
 ang-vor-sommerferien/
URL:https://dev.tvebikon.ch/events/ausklang-vor-sommerferien/
END:VEVENT
END:VCALENDAR